BEGIN:VCALENDAR
PRODID:-//PUBBLE//agenda//NL
VERSION:2.0
METHOD:PUBLISH
BEGIN:VEVENT
DTSTART:20231001T123000Z
DTEND:20231001T143000Z
DTSTAMP:20260423T044710Z
UID:67186d34-4ce8-416d-bff7-9cbba1ef5d9e
CREATED:20260423T044710Z
NAME:Verhalen in het bos destadamersfoort.nl
X-WR-CALNAME:Verhalen in het bos
X-ALT-DESC;FMTTYPE=text/html:<a href='/agenda/2023/10/1/verhalen-in-het-bos-958707'>/agenda/2023/10/1/verhalen-in-het-bos-958707</a> || <p>Park Randenbroek trekt zijn herfsttooi aan en vormt het schitterende decor voor storytelling in Koetshuis Randenbroek. Vijf vertellers brengen verhalen ten gehore, geïnspireerd door windvlagen, vallend gebladerte en de wisseling der seizoenen.</p><p>Op zondagmiddag 1 oktober kunt u luisteren naar Alice van Dam, Vincent Zijffers, Melanie Plag, Bart Corduwener en Jet de Roode. De verhalen worden afgewisseld met live muziek van Linda Hessing en halverwege is er een pauze waarin u kunt genieten van een drankje.</p><p>Laat u betoveren door de magie van het vertelde verhaal op een sprookjesachtige locatie!</p><p>Voor wie: iedereen van 7 tot 107 jaar.</p><p>Koetshuis Randenbroek (het poppentheater), Heiligenbergerweg 119 Amersfoort</p><p>Zondag 1 oktober 2022 14.30 – 16.30 uur, deur open om 14.00 uur</p><p>Reserveren kan via info@theatertoermalijn.nl </p><p>Toegang: bijdrage in de hoed</p>
DESCRIPTION:<a href='/agenda/2023/10/1/verhalen-in-het-bos-958707'>/agenda/2023/10/1/verhalen-in-het-bos-958707</a> || <p>Park Randenbroek trekt zijn herfsttooi aan en vormt het schitterende decor voor storytelling in Koetshuis Randenbroek. Vijf vertellers brengen verhalen ten gehore, geïnspireerd door windvlagen, vallend gebladerte en de wisseling der seizoenen.</p><p>Op zondagmiddag 1 oktober kunt u luisteren naar Alice van Dam, Vincent Zijffers, Melanie Plag, Bart Corduwener en Jet de Roode. De verhalen worden afgewisseld met live muziek van Linda Hessing en halverwege is er een pauze waarin u kunt genieten van een drankje.</p><p>Laat u betoveren door de magie van het vertelde verhaal op een sprookjesachtige locatie!</p><p>Voor wie: iedereen van 7 tot 107 jaar.</p><p>Koetshuis Randenbroek (het poppentheater), Heiligenbergerweg 119 Amersfoort</p><p>Zondag 1 oktober 2022 14.30 – 16.30 uur, deur open om 14.00 uur</p><p>Reserveren kan via info@theatertoermalijn.nl </p><p>Toegang: bijdrage in de hoed</p>
LAST-MODIFIED:20260423T044710Z
LOCATION: Koetshuis Randenbroek | Heiligenbergerweg 115-119 Amersfoort
SEQUENCE:0
STATUS:CONFIRMED
SUMMARY:Verhalen in het bos
TRANSP:OPAQUE
END:VEVENT
END:VCALENDAR
