BEGIN:VCALENDAR
PRODID:-//PUBBLE//agenda//NL
VERSION:2.0
METHOD:PUBLISH
BEGIN:VEVENT
DTSTART:20230609T180000Z
DTEND:20230609T215900Z
DTSTAMP:20260424T164914Z
UID:1f5d1d30-849b-49e1-9a4c-f40056e48739
CREATED:20260424T164914Z
NAME:WijnFestijn Vathorst destadamersfoort.nl
X-WR-CALNAME:WijnFestijn Vathorst
X-ALT-DESC;FMTTYPE=text/html:<a href='/agenda/2023/6/9/wijnfestijn-vathorst-925820'>/agenda/2023/6/9/wijnfestijn-vathorst-925820</a> || <p>Kom op 9 juni naar de eerste editie van WijnFestijn Vathorst. Vier wijngaarden uit de buurt presenteren hun mooiste wijnen. Bij de entree ontvang je een wijnglas. Tegen een vergoeding kun je, onder het genot van een borrelplankje van Rob’s Kaas en Lekkernijen en lekkers van De Kamers, je glas laten vullen met deze geweldige lokale wijnen. Tegelijkertijd kun je swingen op de muziek van de L.E.A. Rock/Blues cover Band of een gokje wagen bij Vino Casino onder leiding van Klazien Vermeer van De Wijnschool in Nijkerk.</p><p>En…..positieve baten zullen gedoneerd worden aan de Kookgroep “Tot Uw Dienst”. Zij maken in Vathorst met veel plezier en passie maaltijden voor mensen die het nodig hebben.</p><p><strong>Deelnemende wijngaarden</strong></p><p>Wijngaard Aan de Breede Beek Nijkerk</p><p>Wijngoed Wilgenhorst Zeewolde</p><p>Wijnhoeve Middeldorp Nijkerk</p><p>Wijngaard Telgt Ermelo</p><p><strong>En ook</strong></p><p>De Wijnschool Nijkerk van Klazien Vermeer</p><p>Gastrovino Rob’s Kaas en Lekkernijen Vathorst</p><p><strong>Band</strong></p><p>L.E.A Rock/Blues cover Band Vathorst</p><p><strong>Goede Doel</strong></p><p>Kookgroep “Tot Uw Dienst”</p><p>Kaarten zijn te verkregen via: <a href="https://www.theaterdekamers.nl/event/wijnfestijn-vathorst/" target="_blank">https://www.theaterdekamers.nl/event/wijnfestijn-vathorst/</a></p>
DESCRIPTION:<a href='/agenda/2023/6/9/wijnfestijn-vathorst-925820'>/agenda/2023/6/9/wijnfestijn-vathorst-925820</a> || <p>Kom op 9 juni naar de eerste editie van WijnFestijn Vathorst. Vier wijngaarden uit de buurt presenteren hun mooiste wijnen. Bij de entree ontvang je een wijnglas. Tegen een vergoeding kun je, onder het genot van een borrelplankje van Rob’s Kaas en Lekkernijen en lekkers van De Kamers, je glas laten vullen met deze geweldige lokale wijnen. Tegelijkertijd kun je swingen op de muziek van de L.E.A. Rock/Blues cover Band of een gokje wagen bij Vino Casino onder leiding van Klazien Vermeer van De Wijnschool in Nijkerk.</p><p>En…..positieve baten zullen gedoneerd worden aan de Kookgroep “Tot Uw Dienst”. Zij maken in Vathorst met veel plezier en passie maaltijden voor mensen die het nodig hebben.</p><p><strong>Deelnemende wijngaarden</strong></p><p>Wijngaard Aan de Breede Beek Nijkerk</p><p>Wijngoed Wilgenhorst Zeewolde</p><p>Wijnhoeve Middeldorp Nijkerk</p><p>Wijngaard Telgt Ermelo</p><p><strong>En ook</strong></p><p>De Wijnschool Nijkerk van Klazien Vermeer</p><p>Gastrovino Rob’s Kaas en Lekkernijen Vathorst</p><p><strong>Band</strong></p><p>L.E.A Rock/Blues cover Band Vathorst</p><p><strong>Goede Doel</strong></p><p>Kookgroep “Tot Uw Dienst”</p><p>Kaarten zijn te verkregen via: <a href="https://www.theaterdekamers.nl/event/wijnfestijn-vathorst/" target="_blank">https://www.theaterdekamers.nl/event/wijnfestijn-vathorst/</a></p>
LAST-MODIFIED:20260424T164914Z
LOCATION: Theater De Kamers | Wezeperberg 1 Amersfoort
SEQUENCE:0
STATUS:CONFIRMED
SUMMARY:WijnFestijn Vathorst
TRANSP:OPAQUE
END:VEVENT
END:VCALENDAR
