BEGIN:VCALENDAR
PRODID:-//PUBBLE//agenda//NL
VERSION:2.0
METHOD:PUBLISH
BEGIN:VEVENT
DTSTART:20260503T123000Z
DTEND:20260503T133000Z
DTSTAMP:20260423T081406Z
UID:56c388d5-683c-4a95-b84f-4dfdf21646b4
CREATED:20260423T081406Z
NAME:Een moeder. Vertelvoorstelling over Käthe Kollwitz door Anje Robertson destadamersfoort.nl
X-WR-CALNAME:Een moeder. Vertelvoorstelling over Käthe Kollwitz door Anje Robertson
X-ALT-DESC;FMTTYPE=text/html:<a href='/agenda/2026/5/3/een-moeder-vertelvoorstelling-over-kathe-kollwitz-door-anje-robertson-1271523'>/agenda/2026/5/3/een-moeder-vertelvoorstelling-over-kathe-kollwitz-door-anje-robertson-1271523</a> || <p>Käthe Kollwitz was een bevlogen beeldend kunstenaar en een sociaal bewogen mens. Maar boven alles was ze een moeder. De twee grote oorlogen van de twintigste eeuw eisten hun gruwelijke tol, ook in haar leven. Ze bleef werken vanuit haar eigen visie, al werd haar werk verboden. Haar leven is het leven van een werkende, sociale moeder in de twintigste eeuw.</p><p>Voor vertelster Anje Robertson is Käthe Kollwitz een voorbeeld. Ze koos van nature voor de zwakkeren. In haar werk toonde ze emoties over de gevolgen van ellende, armoede en onbeschrijfelijk verdriet. Maar desondanks ging ze er niet bij neerzitten.</p><p>Anje Robertson genoot haar opleiding als verhalenverteller aan The International School of Storytelling in het Verenigd Koninkrijk.</p><p>Doelgroep: volwassenen&nbsp;</p><p>Entree: € 10,- (aan de zaal, pin of QR code)&nbsp;</p><p>Reserveren: info@theatertoermalijn.nl</p>
DESCRIPTION:<a href='/agenda/2026/5/3/een-moeder-vertelvoorstelling-over-kathe-kollwitz-door-anje-robertson-1271523'>/agenda/2026/5/3/een-moeder-vertelvoorstelling-over-kathe-kollwitz-door-anje-robertson-1271523</a> || <p>Käthe Kollwitz was een bevlogen beeldend kunstenaar en een sociaal bewogen mens. Maar boven alles was ze een moeder. De twee grote oorlogen van de twintigste eeuw eisten hun gruwelijke tol, ook in haar leven. Ze bleef werken vanuit haar eigen visie, al werd haar werk verboden. Haar leven is het leven van een werkende, sociale moeder in de twintigste eeuw.</p><p>Voor vertelster Anje Robertson is Käthe Kollwitz een voorbeeld. Ze koos van nature voor de zwakkeren. In haar werk toonde ze emoties over de gevolgen van ellende, armoede en onbeschrijfelijk verdriet. Maar desondanks ging ze er niet bij neerzitten.</p><p>Anje Robertson genoot haar opleiding als verhalenverteller aan The International School of Storytelling in het Verenigd Koninkrijk.</p><p>Doelgroep: volwassenen&nbsp;</p><p>Entree: € 10,- (aan de zaal, pin of QR code)&nbsp;</p><p>Reserveren: info@theatertoermalijn.nl</p>
LAST-MODIFIED:20260423T081406Z
LOCATION: Koetshuis Randenbroek | Heiligenbergerweg 115-119 Amersfoort
SEQUENCE:0
STATUS:CONFIRMED
SUMMARY:Een moeder. Vertelvoorstelling over Käthe Kollwitz door Anje Robertson
TRANSP:OPAQUE
END:VEVENT
END:VCALENDAR
