BEGIN:VCALENDAR
PRODID:-//PUBBLE//agenda//NL
VERSION:2.0
METHOD:PUBLISH
BEGIN:VEVENT
DTSTART:20250927T140000Z
DTEND:20250927T160000Z
DTSTAMP:20260425T154854Z
UID:ee996c96-960c-45bc-ab42-08854ec9cb8c
CREATED:20260425T154854Z
NAME:Muziekcafé Zielhorst zaterdagmiddag 27 september 2025: ISABELLE & PETER destadamersfoort.nl
X-WR-CALNAME:Muziekcafé Zielhorst zaterdagmiddag 27 september 2025: ISABELLE & PETER
X-ALT-DESC;FMTTYPE=text/html:<a href='/agenda/2025/9/27/muziekcafe-zielhorst-zaterdagmiddag-27-september-2025-isabelle-amp-peter-1206976'>/agenda/2025/9/27/muziekcafe-zielhorst-zaterdagmiddag-27-september-2025-isabelle-amp-peter-1206976</a> || <p><strong>Welkom muziekliefhebbers van het Muziekcafé Zielhorst.</strong></p><p>Na deze zomerstop zijn we weer toe aan het organiseren van leuke muziekevenementen.</p><p>We hebben weer een gevarieerd programma voor de komende periode in petto.</p><p>Graag kondigen we hierbij een kersvers muziekgezelschap aan:</p><p>&nbsp;<strong>Kleinkunstige klanken met Isabelle Weenink en Peter Mohr</strong></p><p>Isabelle en Peter nemen je verhalend mee door de geschiedenis van de mooiste, gekste en ontroerende liedjes op het gebied van cabaret en theater.Maar ook tekstkunstenaars Acda&amp;de Munnik en Robert Long komen aan bod.</p><p>Laat je twee keer drie kwartier verrassen door de prachtige stem van Isabelle en de fijne pianomuziek van Peter.&nbsp;</p><p><strong>We zien jullie graag op 27 september!</strong></p><p><strong>Toegang gratis en thee/koffie ook. Foyer open 15.00</strong></p><p>WIJKCENTRUM ’t MIDDELPUNT &nbsp; Spinetpad 2 Amersfoort</p><p><strong>muziekcafezielhorst@gmail.com &nbsp; &nbsp; www.muziekcafezielhorst.nl</strong></p>
DESCRIPTION:<a href='/agenda/2025/9/27/muziekcafe-zielhorst-zaterdagmiddag-27-september-2025-isabelle-amp-peter-1206976'>/agenda/2025/9/27/muziekcafe-zielhorst-zaterdagmiddag-27-september-2025-isabelle-amp-peter-1206976</a> || <p><strong>Welkom muziekliefhebbers van het Muziekcafé Zielhorst.</strong></p><p>Na deze zomerstop zijn we weer toe aan het organiseren van leuke muziekevenementen.</p><p>We hebben weer een gevarieerd programma voor de komende periode in petto.</p><p>Graag kondigen we hierbij een kersvers muziekgezelschap aan:</p><p>&nbsp;<strong>Kleinkunstige klanken met Isabelle Weenink en Peter Mohr</strong></p><p>Isabelle en Peter nemen je verhalend mee door de geschiedenis van de mooiste, gekste en ontroerende liedjes op het gebied van cabaret en theater.Maar ook tekstkunstenaars Acda&amp;de Munnik en Robert Long komen aan bod.</p><p>Laat je twee keer drie kwartier verrassen door de prachtige stem van Isabelle en de fijne pianomuziek van Peter.&nbsp;</p><p><strong>We zien jullie graag op 27 september!</strong></p><p><strong>Toegang gratis en thee/koffie ook. Foyer open 15.00</strong></p><p>WIJKCENTRUM ’t MIDDELPUNT &nbsp; Spinetpad 2 Amersfoort</p><p><strong>muziekcafezielhorst@gmail.com &nbsp; &nbsp; www.muziekcafezielhorst.nl</strong></p>
LAST-MODIFIED:20260425T154854Z
LOCATION: Wijkcentrum ‘t Middelpunt | Spinetpad  2 Amersfoort
SEQUENCE:0
STATUS:CONFIRMED
SUMMARY:Muziekcafé Zielhorst zaterdagmiddag 27 september 2025: ISABELLE & PETER
TRANSP:OPAQUE
END:VEVENT
END:VCALENDAR
