BEGIN:VCALENDAR
PRODID:-//PUBBLE//agenda//NL
VERSION:2.0
METHOD:PUBLISH
BEGIN:VEVENT
DTSTART:20241228T140000Z
DTEND:20241228T160000Z
DTSTAMP:20260424T225858Z
UID:2fada6d5-2d2d-4d35-9c27-ed9badd55fb0
CREATED:20260424T225858Z
NAME:MUZIEKCAFE ZIELHORST> OL’  STUFF!  zaterdagmiddag 16.00-18.00 uur destadamersfoort.nl
X-WR-CALNAME:MUZIEKCAFE ZIELHORST> OL’  STUFF!  zaterdagmiddag 16.00-18.00 uur
X-ALT-DESC;FMTTYPE=text/html:<a href='/agenda/2024/12/28/muziekcafe-zielhorst-gt-ol-stuff-zaterdagmiddag-16-00-18-00-uur-1103306'>/agenda/2024/12/28/muziekcafe-zielhorst-gt-ol-stuff-zaterdagmiddag-16-00-18-00-uur-1103306</a> || <p><strong>MUZIEKCAFÉ &nbsp;ZIELHORST</strong></p><p><strong>zaterdag 28 december &nbsp; &nbsp; 16.00 – 18.00 uur</strong></p><p><strong>OL’ STUFF!</strong></p><p>Het wordt een traditie, om het einde-jaars optreden in Muziekcafé Zielhorst te vieren met Ol’ Stuff!. Ze treden hier als muzikale vriendengroep graag op. We worden weer in de jaren ’60-70 ondergedompeld en zingen en swingen graag mee met de bekende liedjes. Welkom, op deze vrolijke middag!</p><p>Marja, Betty, zang. Dane, Rogier, Henk, gitaar. John, bas. Klaas drums.</p><p>We vragen een kleine vrijwillige bijdrage voor niet-gesubsidieerde kosten en die is ook welkom als hapjes, oliebollen, appelflappen enzo. <strong>WELKOM!</strong></p><p>We zorgen ook voor kleine hapjes.</p><p>&nbsp; &nbsp; &nbsp; &nbsp; &nbsp; &nbsp; &nbsp; &nbsp; &nbsp; &nbsp; &nbsp; &nbsp;&nbsp;<strong>&nbsp; &nbsp; &nbsp; &nbsp; &nbsp; &nbsp; &nbsp; &nbsp;Toegang gratis en thee/koffie ook. Foyer open 15.00</strong>&nbsp;</p><p><strong>WIJKCENTRUM ’t MIDDELPUNT &nbsp;</strong> &nbsp; &nbsp; &nbsp; &nbsp; &nbsp; &nbsp; &nbsp; &nbsp; &nbsp; &nbsp; &nbsp; &nbsp; &nbsp; &nbsp;</p><p>&nbsp; &nbsp; Spinetpad 2 Amersfoort</p><p><strong>muziekcafezielhorst@gmail.com &nbsp;&nbsp;</strong></p><p><strong><br></strong></p><p><strong>&nbsp; &nbsp;<a href="//www.muziekcafezielhorst.nl">www.muziekcafezielhorst.nl</a></strong></p><p><strong>&nbsp; &nbsp; &nbsp; &nbsp; &nbsp; &nbsp; &nbsp; &nbsp; &nbsp; &nbsp; &nbsp; &nbsp; &nbsp; &nbsp; &nbsp; &nbsp; &nbsp; &nbsp; &nbsp; &nbsp; &nbsp; &nbsp; &nbsp; &nbsp; &nbsp;Elke laatste zaterdagmiddag van de maand</strong></p>
DESCRIPTION:<a href='/agenda/2024/12/28/muziekcafe-zielhorst-gt-ol-stuff-zaterdagmiddag-16-00-18-00-uur-1103306'>/agenda/2024/12/28/muziekcafe-zielhorst-gt-ol-stuff-zaterdagmiddag-16-00-18-00-uur-1103306</a> || <p><strong>MUZIEKCAFÉ &nbsp;ZIELHORST</strong></p><p><strong>zaterdag 28 december &nbsp; &nbsp; 16.00 – 18.00 uur</strong></p><p><strong>OL’ STUFF!</strong></p><p>Het wordt een traditie, om het einde-jaars optreden in Muziekcafé Zielhorst te vieren met Ol’ Stuff!. Ze treden hier als muzikale vriendengroep graag op. We worden weer in de jaren ’60-70 ondergedompeld en zingen en swingen graag mee met de bekende liedjes. Welkom, op deze vrolijke middag!</p><p>Marja, Betty, zang. Dane, Rogier, Henk, gitaar. John, bas. Klaas drums.</p><p>We vragen een kleine vrijwillige bijdrage voor niet-gesubsidieerde kosten en die is ook welkom als hapjes, oliebollen, appelflappen enzo. <strong>WELKOM!</strong></p><p>We zorgen ook voor kleine hapjes.</p><p>&nbsp; &nbsp; &nbsp; &nbsp; &nbsp; &nbsp; &nbsp; &nbsp; &nbsp; &nbsp; &nbsp; &nbsp;&nbsp;<strong>&nbsp; &nbsp; &nbsp; &nbsp; &nbsp; &nbsp; &nbsp; &nbsp;Toegang gratis en thee/koffie ook. Foyer open 15.00</strong>&nbsp;</p><p><strong>WIJKCENTRUM ’t MIDDELPUNT &nbsp;</strong> &nbsp; &nbsp; &nbsp; &nbsp; &nbsp; &nbsp; &nbsp; &nbsp; &nbsp; &nbsp; &nbsp; &nbsp; &nbsp; &nbsp;</p><p>&nbsp; &nbsp; Spinetpad 2 Amersfoort</p><p><strong>muziekcafezielhorst@gmail.com &nbsp;&nbsp;</strong></p><p><strong><br></strong></p><p><strong>&nbsp; &nbsp;<a href="//www.muziekcafezielhorst.nl">www.muziekcafezielhorst.nl</a></strong></p><p><strong>&nbsp; &nbsp; &nbsp; &nbsp; &nbsp; &nbsp; &nbsp; &nbsp; &nbsp; &nbsp; &nbsp; &nbsp; &nbsp; &nbsp; &nbsp; &nbsp; &nbsp; &nbsp; &nbsp; &nbsp; &nbsp; &nbsp; &nbsp; &nbsp; &nbsp;Elke laatste zaterdagmiddag van de maand</strong></p>
LAST-MODIFIED:20260424T225858Z
LOCATION: Wijkcentrum ‘t Middelpunt | Spinetpad  2 Amersfoort
SEQUENCE:0
STATUS:CONFIRMED
SUMMARY:MUZIEKCAFE ZIELHORST> OL’  STUFF!  zaterdagmiddag 16.00-18.00 uur
TRANSP:OPAQUE
END:VEVENT
END:VCALENDAR
