BEGIN:VCALENDAR
PRODID:-//PUBBLE//agenda//NL
VERSION:2.0
METHOD:PUBLISH
BEGIN:VEVENT
DTSTART:20241013T123000Z
DTEND:20241013T143000Z
DTSTAMP:20260421T051043Z
UID:0b23bb5b-4ed2-4bd8-b6c6-595f0488e78b
CREATED:20260421T051043Z
NAME:Herfstverhalen in Koetshuis Randenbroek destadamersfoort.nl
X-WR-CALNAME:Herfstverhalen in Koetshuis Randenbroek
X-ALT-DESC;FMTTYPE=text/html:<a href='/agenda/2024/10/13/herfstverhalen-in-koetshuis-randenbroek-1078055'>/agenda/2024/10/13/herfstverhalen-in-koetshuis-randenbroek-1078055</a> || <p>Verhalenpodium ‘Verhalen in het Bos’ opent haar seizoen op zondagmiddag 13 oktober met een middag vol herfstverhalen en muziek. Combineer je herfstwandeling in het park met een bezoek aan het Koetshuis en geniet van verteltheater en muziek!&nbsp;</p><p>Vertellers Ingrid Wesselink, Giovanni Masetti, Melanie Plag, Gerda Hoogendijk en Els Ponstein delen hun herfstverhalen. Gabriëlle Spijkman speelt tussendoor op accordeon.Voor alle verhalenliefhebbers van 7 tot 107 jaar. Toegang: vrijwillige bijdrage (contant of QR)<br>Reserveren: info@theatertoermalijn.nl </p>
DESCRIPTION:<a href='/agenda/2024/10/13/herfstverhalen-in-koetshuis-randenbroek-1078055'>/agenda/2024/10/13/herfstverhalen-in-koetshuis-randenbroek-1078055</a> || <p>Verhalenpodium ‘Verhalen in het Bos’ opent haar seizoen op zondagmiddag 13 oktober met een middag vol herfstverhalen en muziek. Combineer je herfstwandeling in het park met een bezoek aan het Koetshuis en geniet van verteltheater en muziek!&nbsp;</p><p>Vertellers Ingrid Wesselink, Giovanni Masetti, Melanie Plag, Gerda Hoogendijk en Els Ponstein delen hun herfstverhalen. Gabriëlle Spijkman speelt tussendoor op accordeon.Voor alle verhalenliefhebbers van 7 tot 107 jaar. Toegang: vrijwillige bijdrage (contant of QR)<br>Reserveren: info@theatertoermalijn.nl </p>
LAST-MODIFIED:20260421T051043Z
LOCATION: Koetshuis Randenbroek | Heiligenbergerweg 115-119 Amersfoort
SEQUENCE:0
STATUS:CONFIRMED
SUMMARY:Herfstverhalen in Koetshuis Randenbroek
TRANSP:OPAQUE
END:VEVENT
END:VCALENDAR
