BEGIN:VCALENDAR
PRODID:-//PUBBLE//agenda//NL
VERSION:2.0
METHOD:PUBLISH
BEGIN:VEVENT
DTSTART:20240907T090000Z
DTEND:20240908T150000Z
DTSTAMP:20260421T192256Z
UID:50a0d944-3a65-4406-97c6-372ad7ef14ec
CREATED:20260421T192256Z
NAME:Poppentheaterfestival ‘Poppen in het Park’ destadamersfoort.nl
X-WR-CALNAME:Poppentheaterfestival ‘Poppen in het Park’
X-ALT-DESC;FMTTYPE=text/html:<a href='/agenda/2024/9/7/poppentheaterfestival-poppen-in-het-park-1038986'>/agenda/2024/9/7/poppentheaterfestival-poppen-in-het-park-1038986</a> || <p>De 20ste editie van het unieke en kleinschalige Poppentheaterfestival ‘Poppen in het Park’ is op za. 7 en zo. 8 september 2024 in Park Randenbroek in Amersfoort en de kaartverkoop start op 1 juni.&nbsp;</p><p>Zie: www.poppeninhetpark.nl</p><p>Met dit jaar, vanwege de 20ste editie, op beide festivaldagen vele voorstellingen van Lejo!!</p><p>De toegangsprijs voor een voorstelling is €5,00 voor zowel de kinder- als ouder/begeleider kaartjes.</p>
DESCRIPTION:<a href='/agenda/2024/9/7/poppentheaterfestival-poppen-in-het-park-1038986'>/agenda/2024/9/7/poppentheaterfestival-poppen-in-het-park-1038986</a> || <p>De 20ste editie van het unieke en kleinschalige Poppentheaterfestival ‘Poppen in het Park’ is op za. 7 en zo. 8 september 2024 in Park Randenbroek in Amersfoort en de kaartverkoop start op 1 juni.&nbsp;</p><p>Zie: www.poppeninhetpark.nl</p><p>Met dit jaar, vanwege de 20ste editie, op beide festivaldagen vele voorstellingen van Lejo!!</p><p>De toegangsprijs voor een voorstelling is €5,00 voor zowel de kinder- als ouder/begeleider kaartjes.</p>
LAST-MODIFIED:20260421T192256Z
LOCATION: Park Randenbroek, ingang Ringweg Randenbroek | Ringweg Randenbroek 119 Amersfoort
SEQUENCE:0
STATUS:CONFIRMED
SUMMARY:Poppentheaterfestival ‘Poppen in het Park’
TRANSP:OPAQUE
END:VEVENT
END:VCALENDAR
